BEGIN:VCALENDAR
VERSION:2.0
PRODID:-//eventon.com NONSGML v1.0//EN
CALSCALE:GREGORIAN
METHOD:PUBLISH
BEGIN:VEVENT
UID:69e8dba0b70a9
DTSTAMP:20260422T143056Z
DTSTART:20270206T195000Z
DTEND:20270206T225900Z
LOCATION:
SUMMARY:Karneval
DESCRIPTION:Infos folgen\nhttps://wolli-liebt-dich.de/events/karneval-35
URL:https://wolli-liebt-dich.de/events/karneval-35
END:VEVENT
END:VCALENDAR